BEGIN:VCALENDAR
VERSION:2.0
PRODID:JMS Hockey
X-PUBLISHED-TTL:P1W
BEGIN:VEVENT
UID:69e7ae083d6c7
DTSTART:20150316T015000Z
SEQUENCE:0
TRANSP:OPAQUE
DTEND:20150316T025000Z
URL:http://jmshockey.com/league/game/138
LOCATION:Inver Grove Heights Community Center
SUMMARY:North Stars vs. No ReGretzkys at Inver Grove Heights Community Cent
 er (Loon State Hockey Leagues)
CLASS:PUBLIC
DTSTAMP:20260421T120408Z
END:VEVENT
END:VCALENDAR