BEGIN:VCALENDAR
VERSION:2.0
PRODID:JMS Hockey
X-PUBLISHED-TTL:P1W
BEGIN:VEVENT
UID:69e79bf7ca14c
DTSTART:20180801T001000Z
SEQUENCE:0
TRANSP:OPAQUE
DTEND:20180801T012000Z
URL:http://jmshockey.com/league/game/1371
LOCATION:Doug Woog Arena (Wakota)
SUMMARY:Team 3 vs. woog women's summer 18 team 2 at Doug Woog Arena (Wakota
 ) (Loon State Hockey Leagues)
CLASS:PUBLIC
DTSTAMP:20260421T104703Z
END:VEVENT
END:VCALENDAR