BEGIN:VCALENDAR
VERSION:2.0
PRODID:JMS Hockey
X-PUBLISHED-TTL:P1W
BEGIN:VEVENT
UID:69e7b5ec305b5
DTSTART:20180725T013000Z
SEQUENCE:0
TRANSP:OPAQUE
DTEND:20180725T024000Z
URL:http://jmshockey.com/league/game/1370
LOCATION:Doug Woog Arena (Wakota)
SUMMARY:Team 3 vs. woog women's summer 18 team 1 at Doug Woog Arena (Wakota
 ) (Loon State Hockey Leagues)
CLASS:PUBLIC
DTSTAMP:20260421T123748Z
END:VEVENT
END:VCALENDAR