BEGIN:VCALENDAR
VERSION:2.0
PRODID:JMS Hockey
X-PUBLISHED-TTL:P1W
BEGIN:VEVENT
UID:69e7b5ec7625d
DTSTART:20180620T001000Z
SEQUENCE:0
TRANSP:OPAQUE
DTEND:20180620T012000Z
URL:http://jmshockey.com/league/game/1363
LOCATION:Doug Woog Arena (Wakota)
SUMMARY:woog women's summer 18 team 1 vs. Team 3 at Doug Woog Arena (Wakota
 ) (Loon State Hockey Leagues)
CLASS:PUBLIC
DTSTAMP:20260421T123748Z
END:VEVENT
END:VCALENDAR