BEGIN:VCALENDAR
VERSION:2.0
PRODID:JMS Hockey
X-PUBLISHED-TTL:P1W
BEGIN:VEVENT
UID:69e79bbc277b1
DTSTART:20180613T001000Z
SEQUENCE:0
TRANSP:OPAQUE
DTEND:20180613T012000Z
URL:http://jmshockey.com/league/game/1361
LOCATION:Doug Woog Arena (Wakota)
SUMMARY:woog women's summer 18 team 2 vs. woog women's summer 18 team 1 at 
 Doug Woog Arena (Wakota) (Loon State Hockey Leagues)
CLASS:PUBLIC
DTSTAMP:20260421T104604Z
END:VEVENT
END:VCALENDAR