BEGIN:VCALENDAR
VERSION:2.0
PRODID:JMS Hockey
X-PUBLISHED-TTL:P1W
BEGIN:VEVENT
UID:69e7c3e24152e
DTSTART:20180807T020000Z
SEQUENCE:0
TRANSP:OPAQUE
DTEND:20180807T031500Z
URL:http://jmshockey.com/league/game/1359
LOCATION:Eden Prairie Comm Ctr
SUMMARY:Mighty Mud Minnows vs. U.S Eh! at Eden Prairie Comm Ctr (Loon State
  Hockey Leagues)
CLASS:PUBLIC
DTSTAMP:20260421T133722Z
END:VEVENT
END:VCALENDAR