BEGIN:VCALENDAR
VERSION:2.0
PRODID:JMS Hockey
X-PUBLISHED-TTL:P1W
BEGIN:VEVENT
UID:69e7b7818d257
DTSTART:20180724T023000Z
SEQUENCE:0
TRANSP:OPAQUE
DTEND:20180724T034500Z
URL:http://jmshockey.com/league/game/1355
LOCATION:Eden Prairie Comm Ctr
SUMMARY:Puck Stick vs. Mighty Mud Minnows at Eden Prairie Comm Ctr (Loon St
 ate Hockey Leagues)
CLASS:PUBLIC
DTSTAMP:20260421T124433Z
END:VEVENT
END:VCALENDAR