BEGIN:VCALENDAR
VERSION:2.0
PRODID:JMS Hockey
X-PUBLISHED-TTL:P1W
BEGIN:VEVENT
UID:69e7964d0cf49
DTSTART:20180717T023000Z
SEQUENCE:0
TRANSP:OPAQUE
DTEND:20180717T034500Z
URL:http://jmshockey.com/league/game/1353
LOCATION:Eden Prairie Comm Ctr
SUMMARY:No Puckin' Around vs. Puck Stick at Eden Prairie Comm Ctr (Loon Sta
 te Hockey Leagues)
CLASS:PUBLIC
DTSTAMP:20260421T102253Z
END:VEVENT
END:VCALENDAR