BEGIN:VCALENDAR
VERSION:2.0
PRODID:JMS Hockey
X-PUBLISHED-TTL:P1W
BEGIN:VEVENT
UID:69e7964d4088e
DTSTART:20180703T003000Z
SEQUENCE:0
TRANSP:OPAQUE
DTEND:20180703T014500Z
URL:http://jmshockey.com/league/game/1348
LOCATION:Eden Prairie Comm Ctr
SUMMARY:No Puckin' Around vs. U.S Eh! at Eden Prairie Comm Ctr (Loon State 
 Hockey Leagues)
CLASS:PUBLIC
DTSTAMP:20260421T102253Z
END:VEVENT
END:VCALENDAR