BEGIN:VCALENDAR
VERSION:2.0
PRODID:JMS Hockey
X-PUBLISHED-TTL:P1W
BEGIN:VEVENT
UID:69e7964d3a03a
DTSTART:20180619T013000Z
SEQUENCE:0
TRANSP:OPAQUE
DTEND:20180619T024500Z
URL:http://jmshockey.com/league/game/1345
LOCATION:Eden Prairie Comm Ctr
SUMMARY:Mighty Mud Minnows vs. No Puckin' Around at Eden Prairie Comm Ctr (
 Loon State Hockey Leagues)
CLASS:PUBLIC
DTSTAMP:20260421T102253Z
END:VEVENT
END:VCALENDAR