BEGIN:VCALENDAR
VERSION:2.0
PRODID:JMS Hockey
X-PUBLISHED-TTL:P1W
BEGIN:VEVENT
UID:69e7bb8a1f2d0
DTSTART:20180730T000000Z
SEQUENCE:0
TRANSP:OPAQUE
DTEND:20180730T011500Z
URL:http://jmshockey.com/league/game/1337
LOCATION:Eden Prairie Comm Ctr
SUMMARY:EP UL summer 18 team 2 vs. #NotMyCaptain at Eden Prairie Comm Ctr (
 Loon State Hockey Leagues)
CLASS:PUBLIC
DTSTAMP:20260421T130146Z
END:VEVENT
END:VCALENDAR