BEGIN:VCALENDAR
VERSION:2.0
PRODID:JMS Hockey
X-PUBLISHED-TTL:P1W
BEGIN:VEVENT
UID:69e7ba20de11f
DTSTART:20180709T020000Z
SEQUENCE:0
TRANSP:OPAQUE
DTEND:20180709T031500Z
URL:http://jmshockey.com/league/game/1332
LOCATION:Eden Prairie Comm Ctr
SUMMARY:#NotMyCaptain vs. EP UL summer 18 team 2 at Eden Prairie Comm Ctr (
 Loon State Hockey Leagues)
CLASS:PUBLIC
DTSTAMP:20260421T125544Z
END:VEVENT
END:VCALENDAR