BEGIN:VCALENDAR
VERSION:2.0
PRODID:JMS Hockey
X-PUBLISHED-TTL:P1W
BEGIN:VEVENT
UID:69e7d8c2119db
DTSTART:20180701T230000Z
SEQUENCE:0
TRANSP:OPAQUE
DTEND:20180702T001500Z
URL:http://jmshockey.com/league/game/1329
LOCATION:Eden Prairie Comm Ctr
SUMMARY:#NotMyCaptain vs. Deke Squad at Eden Prairie Comm Ctr (Loon State H
 ockey Leagues)
CLASS:PUBLIC
DTSTAMP:20260421T150626Z
END:VEVENT
END:VCALENDAR