BEGIN:VCALENDAR
VERSION:2.0
PRODID:JMS Hockey
X-PUBLISHED-TTL:P1W
BEGIN:VEVENT
UID:69e7bbb43fbbb
DTSTART:20180618T013000Z
SEQUENCE:0
TRANSP:OPAQUE
DTEND:20180618T024500Z
URL:http://jmshockey.com/league/game/1326
LOCATION:Eden Prairie Comm Ctr
SUMMARY:EP UL summer 18 team 2 vs. #NotMyCaptain at Eden Prairie Comm Ctr (
 Loon State Hockey Leagues)
CLASS:PUBLIC
DTSTAMP:20260421T130228Z
END:VEVENT
END:VCALENDAR