BEGIN:VCALENDAR
VERSION:2.0
PRODID:JMS Hockey
X-PUBLISHED-TTL:P1W
BEGIN:VEVENT
UID:69e79a867d656
DTSTART:20180521T004000Z
SEQUENCE:0
TRANSP:OPAQUE
DTEND:20180521T015000Z
URL:http://jmshockey.com/league/game/1322
LOCATION:Doug Woog Arena (Wakota)
SUMMARY:Staal Tactics vs. Hot Dish at Doug Woog Arena (Wakota) (Loon State 
 Hockey Leagues)
CLASS:PUBLIC
DTSTAMP:20260421T104054Z
END:VEVENT
END:VCALENDAR