BEGIN:VCALENDAR
VERSION:2.0
PRODID:JMS Hockey
X-PUBLISHED-TTL:P1W
BEGIN:VEVENT
UID:69e7afd896bb2
DTSTART:20150223T023000Z
SEQUENCE:0
TRANSP:OPAQUE
DTEND:20150223T033000Z
URL:http://jmshockey.com/league/game/130
LOCATION:Inver Grove Heights Community Center
SUMMARY:No ReGretzkys vs. North Stars at Inver Grove Heights Community Cent
 er (Loon State Hockey Leagues)
CLASS:PUBLIC
DTSTAMP:20260421T121152Z
END:VEVENT
END:VCALENDAR