BEGIN:VCALENDAR
VERSION:2.0
PRODID:JMS Hockey
X-PUBLISHED-TTL:P1W
BEGIN:VEVENT
UID:69e79bbc3feeb
DTSTART:20180604T023000Z
SEQUENCE:0
TRANSP:OPAQUE
DTEND:20180604T034500Z
URL:http://jmshockey.com/league/game/1292
LOCATION:Maple Grove
SUMMARY:Red White & Brews vs. Yetis at Maple Grove (Loon State Hockey Leagu
 es)
CLASS:PUBLIC
DTSTAMP:20260421T104604Z
END:VEVENT
END:VCALENDAR