BEGIN:VCALENDAR
VERSION:2.0
PRODID:JMS Hockey
X-PUBLISHED-TTL:P1W
BEGIN:VEVENT
UID:69e78fe03103e
DTSTART:20180514T023000Z
SEQUENCE:0
TRANSP:OPAQUE
DTEND:20180514T034500Z
URL:http://jmshockey.com/league/game/1289
LOCATION:Maple Grove
SUMMARY:Slap Sharts vs. Red White & Brews at Maple Grove (Loon State Hockey
  Leagues)
CLASS:PUBLIC
DTSTAMP:20260421T095528Z
END:VEVENT
END:VCALENDAR