BEGIN:VCALENDAR
VERSION:2.0
PRODID:JMS Hockey
X-PUBLISHED-TTL:P1W
BEGIN:VEVENT
UID:69e79bf725e7a
DTSTART:20180520T233000Z
SEQUENCE:0
TRANSP:OPAQUE
DTEND:20180521T004500Z
URL:http://jmshockey.com/league/game/1287
LOCATION:Maple Grove
SUMMARY:Red White & Brews vs. Topshelfbardownski at Maple Grove (Loon State
  Hockey Leagues)
CLASS:PUBLIC
DTSTAMP:20260421T104703Z
END:VEVENT
END:VCALENDAR