BEGIN:VCALENDAR
VERSION:2.0
PRODID:JMS Hockey
X-PUBLISHED-TTL:P1W
BEGIN:VEVENT
UID:69e7881a15a30
DTSTART:20150209T024500Z
SEQUENCE:0
TRANSP:OPAQUE
DTEND:20150209T034500Z
URL:http://jmshockey.com/league/game/128
LOCATION:Inver Grove Heights Community Center
SUMMARY:The Dream Team vs. No ReGretzkys at Inver Grove Heights Community C
 enter (Loon State Hockey Leagues)
CLASS:PUBLIC
DTSTAMP:20260421T092218Z
END:VEVENT
END:VCALENDAR