BEGIN:VCALENDAR
VERSION:2.0
PRODID:JMS Hockey
X-PUBLISHED-TTL:P1W
BEGIN:VEVENT
UID:69e791e8ca132
DTSTART:20180423T013000Z
SEQUENCE:0
TRANSP:OPAQUE
DTEND:20180423T024500Z
URL:http://jmshockey.com/league/game/1276
LOCATION:Maple Grove
SUMMARY:Blue Meanies vs. Mid-Ice Crisis at Maple Grove (Loon State Hockey L
 eagues)
CLASS:PUBLIC
DTSTAMP:20260421T100408Z
END:VEVENT
END:VCALENDAR