BEGIN:VCALENDAR
VERSION:2.0
PRODID:JMS Hockey
X-PUBLISHED-TTL:P1W
BEGIN:VEVENT
UID:69e7a7e8470c1
DTSTART:20180423T014500Z
SEQUENCE:0
TRANSP:OPAQUE
DTEND:20180423T030000Z
URL:http://jmshockey.com/league/game/1261
LOCATION:Eden Prairie Comm Ctr
SUMMARY:EP UL spring 18 team 3 vs. Deke Squad at Eden Prairie Comm Ctr (Loo
 n State Hockey Leagues)
CLASS:PUBLIC
DTSTAMP:20260421T113800Z
END:VEVENT
END:VCALENDAR