BEGIN:VCALENDAR
VERSION:2.0
PRODID:JMS Hockey
X-PUBLISHED-TTL:P1W
BEGIN:VEVENT
UID:69e7bbb42a4d7
DTSTART:20180416T001500Z
SEQUENCE:0
TRANSP:OPAQUE
DTEND:20180416T013000Z
URL:http://jmshockey.com/league/game/1258
LOCATION:Eden Prairie Comm Ctr
SUMMARY:EP UL spring 18 team 1 vs. EP UL spring 18 team 3 at Eden Prairie C
 omm Ctr (Loon State Hockey Leagues)
CLASS:PUBLIC
DTSTAMP:20260421T130228Z
END:VEVENT
END:VCALENDAR