BEGIN:VCALENDAR
VERSION:2.0
PRODID:JMS Hockey
X-PUBLISHED-TTL:P1W
BEGIN:VEVENT
UID:69e78814c4291
DTSTART:20180501T020000Z
SEQUENCE:0
TRANSP:OPAQUE
DTEND:20180501T031000Z
URL:http://jmshockey.com/league/game/1249
LOCATION:Eden Prairie Comm Ctr
SUMMARY:Shake n Bake vs. Owen 6 at Eden Prairie Comm Ctr (Loon State Hockey
  Leagues)
CLASS:PUBLIC
DTSTAMP:20260421T092212Z
END:VEVENT
END:VCALENDAR