BEGIN:VCALENDAR
VERSION:2.0
PRODID:JMS Hockey
X-PUBLISHED-TTL:P1W
BEGIN:VEVENT
UID:69e7ae0927567
DTSTART:20150119T023000Z
SEQUENCE:0
TRANSP:OPAQUE
DTEND:20150119T033000Z
URL:http://jmshockey.com/league/game/124
LOCATION:Inver Grove Heights Community Center
SUMMARY:North Stars vs. No ReGretzkys at Inver Grove Heights Community Cent
 er (Loon State Hockey Leagues)
CLASS:PUBLIC
DTSTAMP:20260421T120409Z
END:VEVENT
END:VCALENDAR