BEGIN:VCALENDAR
VERSION:2.0
PRODID:JMS Hockey
X-PUBLISHED-TTL:P1W
BEGIN:VEVENT
UID:69e7b5ec353c3
DTSTART:20180305T023000Z
SEQUENCE:0
TRANSP:OPAQUE
DTEND:20180305T034500Z
URL:http://jmshockey.com/league/game/1239
LOCATION:Eden Prairie Comm Ctr
SUMMARY:NuvaRingers vs. Moose at Eden Prairie Comm Ctr (Loon State Hockey L
 eagues)
CLASS:PUBLIC
DTSTAMP:20260421T123748Z
END:VEVENT
END:VCALENDAR