BEGIN:VCALENDAR
VERSION:2.0
PRODID:JMS Hockey
X-PUBLISHED-TTL:P1W
BEGIN:VEVENT
UID:69e7c3e284c93
DTSTART:20180305T010000Z
SEQUENCE:0
TRANSP:OPAQUE
DTEND:20180305T021500Z
URL:http://jmshockey.com/league/game/1238
LOCATION:Eden Prairie Comm Ctr
SUMMARY:Fight-Milk vs. ep ul winter 18 team 4 at Eden Prairie Comm Ctr (Loo
 n State Hockey Leagues)
CLASS:PUBLIC
DTSTAMP:20260421T133722Z
END:VEVENT
END:VCALENDAR