BEGIN:VCALENDAR
VERSION:2.0
PRODID:JMS Hockey
X-PUBLISHED-TTL:P1W
BEGIN:VEVENT
UID:69e7c3e379193
DTSTART:20180129T031500Z
SEQUENCE:0
TRANSP:OPAQUE
DTEND:20180129T043000Z
URL:http://jmshockey.com/league/game/1230
LOCATION:Eden Prairie Comm Ctr
SUMMARY:Fight-Milk vs. NuvaRingers at Eden Prairie Comm Ctr (Loon State Hoc
 key Leagues)
CLASS:PUBLIC
DTSTAMP:20260421T133723Z
END:VEVENT
END:VCALENDAR