BEGIN:VCALENDAR
VERSION:2.0
PRODID:JMS Hockey
X-PUBLISHED-TTL:P1W
BEGIN:VEVENT
UID:69e7b78176959
DTSTART:20180129T014500Z
SEQUENCE:0
TRANSP:OPAQUE
DTEND:20180129T030000Z
URL:http://jmshockey.com/league/game/1229
LOCATION:Eden Prairie Comm Ctr
SUMMARY:ep ul winter 18 team 4 vs. Moose at Eden Prairie Comm Ctr (Loon Sta
 te Hockey Leagues)
CLASS:PUBLIC
DTSTAMP:20260421T124433Z
END:VEVENT
END:VCALENDAR