BEGIN:VCALENDAR
VERSION:2.0
PRODID:JMS Hockey
X-PUBLISHED-TTL:P1W
BEGIN:VEVENT
UID:69e7c3e204728
DTSTART:20180115T014500Z
SEQUENCE:0
TRANSP:OPAQUE
DTEND:20180115T030000Z
URL:http://jmshockey.com/league/game/1225
LOCATION:Eden Prairie Comm Ctr
SUMMARY:NuvaRingers vs. Moose at Eden Prairie Comm Ctr (Loon State Hockey L
 eagues)
CLASS:PUBLIC
DTSTAMP:20260421T133722Z
END:VEVENT
END:VCALENDAR