BEGIN:VCALENDAR
VERSION:2.0
PRODID:JMS Hockey
X-PUBLISHED-TTL:P1W
BEGIN:VEVENT
UID:69e79c00440db
DTSTART:20180326T011000Z
SEQUENCE:0
TRANSP:OPAQUE
DTEND:20180326T022000Z
URL:http://jmshockey.com/league/game/1222
LOCATION:Doug Woog Arena (Wakota)
SUMMARY:Hot Dish vs. Hockey Team at Doug Woog Arena (Wakota) (Loon State Ho
 ckey Leagues)
CLASS:PUBLIC
DTSTAMP:20260421T104712Z
END:VEVENT
END:VCALENDAR