BEGIN:VCALENDAR
VERSION:2.0
PRODID:JMS Hockey
X-PUBLISHED-TTL:P1W
BEGIN:VEVENT
UID:69e79a871d8c5
DTSTART:20180312T023000Z
SEQUENCE:0
TRANSP:OPAQUE
DTEND:20180312T034000Z
URL:http://jmshockey.com/league/game/1219
LOCATION:Doug Woog Arena (Wakota)
SUMMARY:Hot Dish vs. Hockey Team at Doug Woog Arena (Wakota) (Loon State Ho
 ckey Leagues)
CLASS:PUBLIC
DTSTAMP:20260421T104055Z
END:VEVENT
END:VCALENDAR