BEGIN:VCALENDAR
VERSION:2.0
PRODID:JMS Hockey
X-PUBLISHED-TTL:P1W
BEGIN:VEVENT
UID:69e79bf6c8ce4
DTSTART:20180305T022000Z
SEQUENCE:0
TRANSP:OPAQUE
DTEND:20180305T033000Z
URL:http://jmshockey.com/league/game/1216
LOCATION:Doug Woog Arena (Wakota)
SUMMARY:Hockey Team vs. Staal Tactics at Doug Woog Arena (Wakota) (Loon Sta
 te Hockey Leagues)
CLASS:PUBLIC
DTSTAMP:20260421T104702Z
END:VEVENT
END:VCALENDAR