BEGIN:VCALENDAR
VERSION:2.0
PRODID:JMS Hockey
X-PUBLISHED-TTL:P1W
BEGIN:VEVENT
UID:69e7c3e1f1fba
DTSTART:20180219T040000Z
SEQUENCE:0
TRANSP:OPAQUE
DTEND:20180219T051000Z
URL:http://jmshockey.com/league/game/1213
LOCATION:Doug Woog Arena (Wakota)
SUMMARY:Hockey Team vs. Hot Dish at Doug Woog Arena (Wakota) (Loon State Ho
 ckey Leagues)
CLASS:PUBLIC
DTSTAMP:20260421T133721Z
END:VEVENT
END:VCALENDAR