BEGIN:VCALENDAR
VERSION:2.0
PRODID:JMS Hockey
X-PUBLISHED-TTL:P1W
BEGIN:VEVENT
UID:69e79bf798b56
DTSTART:20180115T040000Z
SEQUENCE:0
TRANSP:OPAQUE
DTEND:20180115T051000Z
URL:http://jmshockey.com/league/game/1207
LOCATION:Doug Woog Arena (Wakota)
SUMMARY:Rubber Puckies vs. Staal Tactics at Doug Woog Arena (Wakota) (Loon 
 State Hockey Leagues)
CLASS:PUBLIC
DTSTAMP:20260421T104703Z
END:VEVENT
END:VCALENDAR