BEGIN:VCALENDAR
VERSION:2.0
PRODID:JMS Hockey
X-PUBLISHED-TTL:P1W
BEGIN:VEVENT
UID:69e79a8a8d5d8
DTSTART:20180319T011000Z
SEQUENCE:0
TRANSP:OPAQUE
DTEND:20180319T022000Z
URL:http://jmshockey.com/league/game/1201
LOCATION:Doug Woog Arena (Wakota)
SUMMARY:Sturgeon Generals vs. Sticky Puckers at Doug Woog Arena (Wakota) (L
 oon State Hockey Leagues)
CLASS:PUBLIC
DTSTAMP:20260421T104058Z
END:VEVENT
END:VCALENDAR