BEGIN:VCALENDAR
VERSION:2.0
PRODID:JMS Hockey
X-PUBLISHED-TTL:P1W
BEGIN:VEVENT
UID:69e7a40c7dcb0
DTSTART:20180226T024000Z
SEQUENCE:0
TRANSP:OPAQUE
DTEND:20180226T035000Z
URL:http://jmshockey.com/league/game/1195
LOCATION:Doug Woog Arena (Wakota)
SUMMARY:Hatrick Swayze vs. Minnesota Mild at Doug Woog Arena (Wakota) (Loon
  State Hockey Leagues)
CLASS:PUBLIC
DTSTAMP:20260421T112132Z
END:VEVENT
END:VCALENDAR