BEGIN:VCALENDAR
VERSION:2.0
PRODID:JMS Hockey
X-PUBLISHED-TTL:P1W
BEGIN:VEVENT
UID:69e78c4007249
DTSTART:20180129T031000Z
SEQUENCE:0
TRANSP:OPAQUE
DTEND:20180129T042000Z
URL:http://jmshockey.com/league/game/1190
LOCATION:Doug Woog Arena (Wakota)
SUMMARY:Sticky Puckers vs. Sturgeon Generals at Doug Woog Arena (Wakota) (L
 oon State Hockey Leagues)
CLASS:PUBLIC
DTSTAMP:20260421T094000Z
END:VEVENT
END:VCALENDAR