BEGIN:VCALENDAR
VERSION:2.0
PRODID:JMS Hockey
X-PUBLISHED-TTL:P1W
BEGIN:VEVENT
UID:69e7c3e22f212
DTSTART:20180115T030000Z
SEQUENCE:0
TRANSP:OPAQUE
DTEND:20180115T041000Z
URL:http://jmshockey.com/league/game/1187
LOCATION:Doug Woog Arena (Wakota)
SUMMARY:Sturgeon Generals vs. Hatrick Swayze at Doug Woog Arena (Wakota) (L
 oon State Hockey Leagues)
CLASS:PUBLIC
DTSTAMP:20260421T133722Z
END:VEVENT
END:VCALENDAR