BEGIN:VCALENDAR
VERSION:2.0
PRODID:JMS Hockey
X-PUBLISHED-TTL:P1W
BEGIN:VEVENT
UID:69e7a40d5e2db
DTSTART:20171127T040000Z
SEQUENCE:0
TRANSP:OPAQUE
DTEND:20171127T051000Z
URL:http://jmshockey.com/league/game/1182
LOCATION:Doug Woog Arena (Wakota)
SUMMARY:Rubber Puckies vs. More Than Just The Tip-in at Doug Woog Arena (Wa
 kota) (Loon State Hockey Leagues)
CLASS:PUBLIC
DTSTAMP:20260421T112133Z
END:VEVENT
END:VCALENDAR