BEGIN:VCALENDAR
VERSION:2.0
PRODID:JMS Hockey
X-PUBLISHED-TTL:P1W
BEGIN:VEVENT
UID:69e7b5ece8f2f
DTSTART:20171211T024000Z
SEQUENCE:0
TRANSP:OPAQUE
DTEND:20171211T035000Z
URL:http://jmshockey.com/league/game/1173
LOCATION:Doug Woog Arena (Wakota)
SUMMARY:Hat Trick Swayze vs. Holtzie's Helicopters at Doug Woog Arena (Wako
 ta) (Loon State Hockey Leagues)
CLASS:PUBLIC
DTSTAMP:20260421T123748Z
END:VEVENT
END:VCALENDAR