BEGIN:VCALENDAR
VERSION:2.0
PRODID:JMS Hockey
X-PUBLISHED-TTL:P1W
BEGIN:VEVENT
UID:69e7b19fe45bb
DTSTART:20171016T012000Z
SEQUENCE:0
TRANSP:OPAQUE
DTEND:20171016T023000Z
URL:http://jmshockey.com/league/game/1159
LOCATION:Doug Woog Arena (Wakota)
SUMMARY:Hat Trick Swayze vs. Sturgeon Generals at Doug Woog Arena (Wakota) 
 (Loon State Hockey Leagues)
CLASS:PUBLIC
DTSTAMP:20260421T121927Z
END:VEVENT
END:VCALENDAR