BEGIN:VCALENDAR
VERSION:2.0
PRODID:JMS Hockey
X-PUBLISHED-TTL:P1W
BEGIN:VEVENT
UID:69e7a40d1dd41
DTSTART:20171023T012000Z
SEQUENCE:0
TRANSP:OPAQUE
DTEND:20171023T023000Z
URL:http://jmshockey.com/league/game/1147
LOCATION:Doug Woog Arena (Wakota)
SUMMARY:Rubber Puckies vs. Hot Dish at Doug Woog Arena (Wakota) (Loon State
  Hockey Leagues)
CLASS:PUBLIC
DTSTAMP:20260421T112133Z
END:VEVENT
END:VCALENDAR