BEGIN:VCALENDAR
VERSION:2.0
PRODID:JMS Hockey
X-PUBLISHED-TTL:P1W
BEGIN:VEVENT
UID:69e79a8a268ca
DTSTART:20171106T033000Z
SEQUENCE:0
TRANSP:OPAQUE
DTEND:20171106T044500Z
URL:http://jmshockey.com/league/game/1141
LOCATION:Maple Grove
SUMMARY:Yetis vs. lb Cakes at Maple Grove (Loon State Hockey Leagues)
CLASS:PUBLIC
DTSTAMP:20260421T104058Z
END:VEVENT
END:VCALENDAR