BEGIN:VCALENDAR
VERSION:2.0
PRODID:JMS Hockey
X-PUBLISHED-TTL:P1W
BEGIN:VEVENT
UID:69e77b9b0cb50
DTSTART:20171106T020000Z
SEQUENCE:0
TRANSP:OPAQUE
DTEND:20171106T031500Z
URL:http://jmshockey.com/league/game/1139
LOCATION:Maple Grove
SUMMARY:Mid-Ice Crisis vs. Inglewood Jacks at Maple Grove (Loon State Hocke
 y Leagues)
CLASS:PUBLIC
DTSTAMP:20260421T082859Z
END:VEVENT
END:VCALENDAR