BEGIN:VCALENDAR
VERSION:2.0
PRODID:JMS Hockey
X-PUBLISHED-TTL:P1W
BEGIN:VEVENT
UID:69e79bf77fddf
DTSTART:20171030T020000Z
SEQUENCE:0
TRANSP:OPAQUE
DTEND:20171030T031500Z
URL:http://jmshockey.com/league/game/1138
LOCATION:Maple Grove
SUMMARY:Mid-Ice Crisis vs. lb Cakes at Maple Grove (Loon State Hockey Leagu
 es)
CLASS:PUBLIC
DTSTAMP:20260421T104703Z
END:VEVENT
END:VCALENDAR