BEGIN:VCALENDAR
VERSION:2.0
PRODID:JMS Hockey
X-PUBLISHED-TTL:P1W
BEGIN:VEVENT
UID:69e791e82dee1
DTSTART:20171030T013000Z
SEQUENCE:0
TRANSP:OPAQUE
DTEND:20171030T024500Z
URL:http://jmshockey.com/league/game/1137
LOCATION:Maple Grove
SUMMARY:Yetis vs. Inglewood Jacks at Maple Grove (Loon State Hockey Leagues
 )
CLASS:PUBLIC
DTSTAMP:20260421T100408Z
END:VEVENT
END:VCALENDAR