BEGIN:VCALENDAR
VERSION:2.0
PRODID:JMS Hockey
X-PUBLISHED-TTL:P1W
BEGIN:VEVENT
UID:69e791e84f7b0
DTSTART:20170925T020000Z
SEQUENCE:0
TRANSP:OPAQUE
DTEND:20170925T031500Z
URL:http://jmshockey.com/league/game/1128
LOCATION:Maple Grove
SUMMARY:Inglewood Jacks vs. Mid-Ice Crisis at Maple Grove (Loon State Hocke
 y Leagues)
CLASS:PUBLIC
DTSTAMP:20260421T100408Z
END:VEVENT
END:VCALENDAR