BEGIN:VCALENDAR
VERSION:2.0
PRODID:JMS Hockey
X-PUBLISHED-TTL:P1W
BEGIN:VEVENT
UID:69e7c76b264dd
DTSTART:20141013T000000Z
SEQUENCE:0
TRANSP:OPAQUE
DTEND:20141013T000000Z
URL:http://jmshockey.com/league/game/111
LOCATION:Eden Prairie Comm Ctr
SUMMARY:Master Skaters vs. The Late Show - featuring the Monday morning Zom
 bies at Eden Prairie Comm Ctr (Loon State Hockey Leagues)
CLASS:PUBLIC
DTSTAMP:20260421T135227Z
END:VEVENT
END:VCALENDAR