BEGIN:VCALENDAR
VERSION:2.0
PRODID:JMS Hockey
X-PUBLISHED-TTL:P1W
BEGIN:VEVENT
UID:69e7c3e385849
DTSTART:20171023T001500Z
SEQUENCE:0
TRANSP:OPAQUE
DTEND:20171023T013000Z
URL:http://jmshockey.com/league/game/1108
LOCATION:Eden Prairie Comm Ctr
SUMMARY:Trash bags vs. Pipe Layers at Eden Prairie Comm Ctr (Loon State Hoc
 key Leagues)
CLASS:PUBLIC
DTSTAMP:20260421T133723Z
END:VEVENT
END:VCALENDAR